BEGIN:VCALENDAR
VERSION:2.0
PRODID:-//Rawhyde Moto Adventures - ECPv6.15.20//NONSGML v1.0//EN
CALSCALE:GREGORIAN
METHOD:PUBLISH
X-ORIGINAL-URL:https://rawhydeadventures.com
X-WR-CALDESC:Events for Rawhyde Moto Adventures
REFRESH-INTERVAL;VALUE=DURATION:PT1H
X-Robots-Tag:noindex
X-PUBLISHED-TTL:PT1H
BEGIN:VTIMEZONE
TZID:America/Los_Angeles
BEGIN:DAYLIGHT
TZOFFSETFROM:-0800
TZOFFSETTO:-0700
TZNAME:PDT
DTSTART:20250309T100000
END:DAYLIGHT
BEGIN:STANDARD
TZOFFSETFROM:-0700
TZOFFSETTO:-0800
TZNAME:PST
DTSTART:20251102T090000
END:STANDARD
BEGIN:DAYLIGHT
TZOFFSETFROM:-0800
TZOFFSETTO:-0700
TZNAME:PDT
DTSTART:20260308T100000
END:DAYLIGHT
BEGIN:STANDARD
TZOFFSETFROM:-0700
TZOFFSETTO:-0800
TZNAME:PST
DTSTART:20261101T090000
END:STANDARD
BEGIN:DAYLIGHT
TZOFFSETFROM:-0800
TZOFFSETTO:-0700
TZNAME:PDT
DTSTART:20270314T100000
END:DAYLIGHT
BEGIN:STANDARD
TZOFFSETFROM:-0700
TZOFFSETTO:-0800
TZNAME:PST
DTSTART:20271107T090000
END:STANDARD
END:VTIMEZONE
BEGIN:VEVENT
DTSTART;TZID=America/Los_Angeles:20260522T170000
DTEND;TZID=America/Los_Angeles:20260524T170000
DTSTAMP:20260420T064502
CREATED:20260220T160331Z
LAST-MODIFIED:20260220T160331Z
UID:10000042-1779469200-1779642000@rawhydeadventures.com
SUMMARY:Intro to Adventure
DESCRIPTION:Our Intro to Adventure class is the perfect starting point for riders who want to build confidence on their BMW GS in real-world off-road conditions. Many GS owners hesitate to leave the pavement because the bikes are tall\, heavy\, and expensive to repair. The reality is that dirt and gravel are unavoidable. Construction zones\, backcountry routes\, national parks\, and remote attractions often require riders to navigate unpaved terrain safely and confidently.
URL:https://rawhydeadventures.com/event/intro-to-adventure-6/
LOCATION:Rawhyde California\, Golden State Hwy\, Castaic\, CA\, 91384\, United States
CATEGORIES:CA Training
END:VEVENT
BEGIN:VEVENT
DTSTART;TZID=America/Los_Angeles:20260522T170000
DTEND;TZID=America/Los_Angeles:20260524T170000
DTSTAMP:20260420T064502
CREATED:20260220T160358Z
LAST-MODIFIED:20260220T160358Z
UID:10000043-1779469200-1779642000@rawhydeadventures.com
SUMMARY:Next Step
DESCRIPTION:Next Step: Level 3 Training\nThe Next Step is our Level 3 program for riders who are ready to push beyond the fundamentals and step into a more technical\, demanding off road environment. This is where you increase speed\, elevate your precision\, and build real mastery of your motorcycle on challenging terrain.
URL:https://rawhydeadventures.com/event/next-step-3/
LOCATION:Rawhyde California\, Golden State Hwy\, Castaic\, CA\, 91384\, United States
CATEGORIES:CA Training
END:VEVENT
BEGIN:VEVENT
DTSTART;TZID=America/Los_Angeles:20260911T080000
DTEND;TZID=America/Los_Angeles:20260911T120000
DTSTAMP:20260420T064502
CREATED:20260220T171426Z
LAST-MODIFIED:20260220T171426Z
UID:10000072-1789113600-1789128000@rawhydeadventures.com
SUMMARY:ADV Essentials
DESCRIPTION:ADV Essentials is a 4.5 hour add on class designed to give you the critical knowledge and skills needed to stay safe and self sufficient in the back country. While most training programs focus solely on riding technique\, this course goes far beyond that. Drawing from more than 20 years of real world adventure experience across deserts\, mountains\, remote wilderness\, and international terrain\, ADV Essentials teaches the practical survival and problem solving skills every adventure rider should have before heading into the unknown.
URL:https://rawhydeadventures.com/event/adv-essentials-7/
LOCATION:Rawhyde California\, Golden State Hwy\, Castaic\, CA\, 91384\, United States
CATEGORIES:CA Training
END:VEVENT
BEGIN:VEVENT
DTSTART;TZID=America/Los_Angeles:20260911T080000
DTEND;TZID=America/Los_Angeles:20260911T120000
DTSTAMP:20260420T064502
CREATED:20260220T172815Z
LAST-MODIFIED:20260220T172815Z
UID:10000091-1789113600-1789128000@rawhydeadventures.com
SUMMARY:ADV Essentials
DESCRIPTION:ADV Essentials is a 4.5 hour add on class designed to give you the critical knowledge and skills needed to stay safe and self sufficient in the back country. While most training programs focus solely on riding technique\, this course goes far beyond that. Drawing from more than 20 years of real world adventure experience across deserts\, mountains\, remote wilderness\, and international terrain\, ADV Essentials teaches the practical survival and problem solving skills every adventure rider should have before heading into the unknown.
URL:https://rawhydeadventures.com/event/adv-essentials-10/
LOCATION:Rawhyde California\, Golden State Hwy\, Castaic\, CA\, 91384\, United States
CATEGORIES:CA Training
END:VEVENT
BEGIN:VEVENT
DTSTART;TZID=America/Los_Angeles:20260911T130000
DTEND;TZID=America/Los_Angeles:20260911T170000
DTSTAMP:20260420T064502
CREATED:20260220T171501Z
LAST-MODIFIED:20260220T171501Z
UID:10000073-1789131600-1789146000@rawhydeadventures.com
SUMMARY:Pretraining
DESCRIPTION:Rawhyde’s Pre-Training Clinic is designed for riders who want a little extra learning time before diving into a full weekend of off-road training. Many new riders feel some jitters before their first class\, and this program offers the perfect opportunity to ease in\, build confidence\, and get comfortable on the bike before the pace picks up.
URL:https://rawhydeadventures.com/event/pretraining-7/
LOCATION:Rawhyde California\, Golden State Hwy\, Castaic\, CA\, 91384\, United States
CATEGORIES:CA Training
END:VEVENT
BEGIN:VEVENT
DTSTART;TZID=America/Los_Angeles:20260911T170000
DTEND;TZID=America/Los_Angeles:20260913T170000
DTSTAMP:20260420T064502
CREATED:20260220T171544Z
LAST-MODIFIED:20260220T171544Z
UID:10000074-1789146000-1789318800@rawhydeadventures.com
SUMMARY:Intro to Adventure
DESCRIPTION:Our Intro to Adventure class is the perfect starting point for riders who want to build confidence on their BMW GS in real-world off-road conditions. Many GS owners hesitate to leave the pavement because the bikes are tall\, heavy\, and expensive to repair. The reality is that dirt and gravel are unavoidable. Construction zones\, backcountry routes\, national parks\, and remote attractions often require riders to navigate unpaved terrain safely and confidently.
URL:https://rawhydeadventures.com/event/intro-to-adventure-7/
LOCATION:Rawhyde California\, Golden State Hwy\, Castaic\, CA\, 91384\, United States
CATEGORIES:CA Training
END:VEVENT
BEGIN:VEVENT
DTSTART;TZID=America/Los_Angeles:20260911T170000
DTEND;TZID=America/Los_Angeles:20260913T170000
DTSTAMP:20260420T064502
CREATED:20260220T171612Z
LAST-MODIFIED:20260220T171612Z
UID:10000075-1789146000-1789318800@rawhydeadventures.com
SUMMARY:Next Step
DESCRIPTION:Next Step: Level 3 Training\nThe Next Step is our Level 3 program for riders who are ready to push beyond the fundamentals and step into a more technical\, demanding off road environment. This is where you increase speed\, elevate your precision\, and build real mastery of your motorcycle on challenging terrain.
URL:https://rawhydeadventures.com/event/next-step-4/
LOCATION:Rawhyde California\, Golden State Hwy\, Castaic\, CA\, 91384\, United States
CATEGORIES:CA Training
END:VEVENT
BEGIN:VEVENT
DTSTART;TZID=America/Los_Angeles:20260925T080000
DTEND;TZID=America/Los_Angeles:20260925T120000
DTSTAMP:20260420T064502
CREATED:20260220T171756Z
LAST-MODIFIED:20260220T171756Z
UID:10000078-1790323200-1790337600@rawhydeadventures.com
SUMMARY:ADV Essentials
DESCRIPTION:ADV Essentials is a 4.5 hour add on class designed to give you the critical knowledge and skills needed to stay safe and self sufficient in the back country. While most training programs focus solely on riding technique\, this course goes far beyond that. Drawing from more than 20 years of real world adventure experience across deserts\, mountains\, remote wilderness\, and international terrain\, ADV Essentials teaches the practical survival and problem solving skills every adventure rider should have before heading into the unknown.
URL:https://rawhydeadventures.com/event/adv-essentials-8/
LOCATION:Rawhyde California\, Golden State Hwy\, Castaic\, CA\, 91384\, United States
CATEGORIES:CA Training
END:VEVENT
BEGIN:VEVENT
DTSTART;TZID=America/Los_Angeles:20260925T130000
DTEND;TZID=America/Los_Angeles:20260925T170000
DTSTAMP:20260420T064502
CREATED:20260220T171815Z
LAST-MODIFIED:20260220T171815Z
UID:10000079-1790341200-1790355600@rawhydeadventures.com
SUMMARY:Pretraining
DESCRIPTION:Rawhyde’s Pre-Training Clinic is designed for riders who want a little extra learning time before diving into a full weekend of off-road training. Many new riders feel some jitters before their first class\, and this program offers the perfect opportunity to ease in\, build confidence\, and get comfortable on the bike before the pace picks up.
URL:https://rawhydeadventures.com/event/pretraining-8/
LOCATION:Rawhyde California\, Golden State Hwy\, Castaic\, CA\, 91384\, United States
CATEGORIES:CA Training
END:VEVENT
BEGIN:VEVENT
DTSTART;TZID=America/Los_Angeles:20260925T170000
DTEND;TZID=America/Los_Angeles:20260927T170000
DTSTAMP:20260420T064502
CREATED:20260220T171837Z
LAST-MODIFIED:20260220T171837Z
UID:10000080-1790355600-1790528400@rawhydeadventures.com
SUMMARY:Intro to Adventure
DESCRIPTION:Our Intro to Adventure class is the perfect starting point for riders who want to build confidence on their BMW GS in real-world off-road conditions. Many GS owners hesitate to leave the pavement because the bikes are tall\, heavy\, and expensive to repair. The reality is that dirt and gravel are unavoidable. Construction zones\, backcountry routes\, national parks\, and remote attractions often require riders to navigate unpaved terrain safely and confidently.
URL:https://rawhydeadventures.com/event/intro-to-adventure-8/
LOCATION:Rawhyde California\, Golden State Hwy\, Castaic\, CA\, 91384\, United States
CATEGORIES:CA Training
END:VEVENT
BEGIN:VEVENT
DTSTART;TZID=America/Los_Angeles:20260925T170000
DTEND;TZID=America/Los_Angeles:20260927T170000
DTSTAMP:20260420T064502
CREATED:20260220T171918Z
LAST-MODIFIED:20260220T171918Z
UID:10000081-1790355600-1790528400@rawhydeadventures.com
SUMMARY:Intro Plus
DESCRIPTION:We’re pleased to introduce our new “Intro Plus” program which is a combination of a complete refresher of our Level 1 program “Plus” the addition of some challenging new skill development exercises that will serve to continue to increase rider confidence and prepare them for greater adventures in the “real world”.
URL:https://rawhydeadventures.com/event/intro-plus-4/
LOCATION:Rawhyde California\, Golden State Hwy\, Castaic\, CA\, 91384\, United States
CATEGORIES:CA Training
END:VEVENT
BEGIN:VEVENT
DTSTART;TZID=America/Los_Angeles:20261009T080000
DTEND;TZID=America/Los_Angeles:20261009T120000
DTSTAMP:20260420T064502
CREATED:20260220T172056Z
LAST-MODIFIED:20260220T172056Z
UID:10000083-1791532800-1791547200@rawhydeadventures.com
SUMMARY:ADV Essentials
DESCRIPTION:ADV Essentials is a 4.5 hour add on class designed to give you the critical knowledge and skills needed to stay safe and self sufficient in the back country. While most training programs focus solely on riding technique\, this course goes far beyond that. Drawing from more than 20 years of real world adventure experience across deserts\, mountains\, remote wilderness\, and international terrain\, ADV Essentials teaches the practical survival and problem solving skills every adventure rider should have before heading into the unknown.
URL:https://rawhydeadventures.com/event/adv-essentials-9/
LOCATION:Rawhyde California\, Golden State Hwy\, Castaic\, CA\, 91384\, United States
CATEGORIES:CA Training
END:VEVENT
BEGIN:VEVENT
DTSTART;TZID=America/Los_Angeles:20261009T130000
DTEND;TZID=America/Los_Angeles:20261009T170000
DTSTAMP:20260420T064502
CREATED:20260220T172114Z
LAST-MODIFIED:20260220T172114Z
UID:10000084-1791550800-1791565200@rawhydeadventures.com
SUMMARY:Pretraining
DESCRIPTION:Rawhyde’s Pre-Training Clinic is designed for riders who want a little extra learning time before diving into a full weekend of off-road training. Many new riders feel some jitters before their first class\, and this program offers the perfect opportunity to ease in\, build confidence\, and get comfortable on the bike before the pace picks up.
URL:https://rawhydeadventures.com/event/pretraining-9/
LOCATION:Rawhyde California\, Golden State Hwy\, Castaic\, CA\, 91384\, United States
CATEGORIES:CA Training
END:VEVENT
BEGIN:VEVENT
DTSTART;TZID=America/Los_Angeles:20261009T170000
DTEND;TZID=America/Los_Angeles:20261011T170000
DTSTAMP:20260420T064502
CREATED:20260220T172142Z
LAST-MODIFIED:20260220T172142Z
UID:10000085-1791565200-1791738000@rawhydeadventures.com
SUMMARY:Intro to Adventure
DESCRIPTION:Our Intro to Adventure class is the perfect starting point for riders who want to build confidence on their BMW GS in real-world off-road conditions. Many GS owners hesitate to leave the pavement because the bikes are tall\, heavy\, and expensive to repair. The reality is that dirt and gravel are unavoidable. Construction zones\, backcountry routes\, national parks\, and remote attractions often require riders to navigate unpaved terrain safely and confidently.
URL:https://rawhydeadventures.com/event/intro-to-adventure-9/
LOCATION:Rawhyde California\, Golden State Hwy\, Castaic\, CA\, 91384\, United States
CATEGORIES:CA Training
END:VEVENT
BEGIN:VEVENT
DTSTART;TZID=America/Los_Angeles:20261009T170000
DTEND;TZID=America/Los_Angeles:20261011T170000
DTSTAMP:20260420T064502
CREATED:20260220T172207Z
LAST-MODIFIED:20260220T172207Z
UID:10000086-1791565200-1791738000@rawhydeadventures.com
SUMMARY:Next Step
DESCRIPTION:Next Step: Level 3 Training\nThe Next Step is our Level 3 program for riders who are ready to push beyond the fundamentals and step into a more technical\, demanding off road environment. This is where you increase speed\, elevate your precision\, and build real mastery of your motorcycle on challenging terrain.
URL:https://rawhydeadventures.com/event/next-step-5/
LOCATION:Rawhyde California\, Golden State Hwy\, Castaic\, CA\, 91384\, United States
CATEGORIES:CA Training
END:VEVENT
BEGIN:VEVENT
DTSTART;TZID=America/Los_Angeles:20261011T090000
DTEND;TZID=America/Los_Angeles:20261015T170000
DTSTAMP:20260420T064502
CREATED:20260220T172724Z
LAST-MODIFIED:20260220T172724Z
UID:10000090-1791709200-1792083600@rawhydeadventures.com
SUMMARY:Expedition CV
DESCRIPTION:Cur·ric·u·lum Vi·tae \nnoun \kə-‘ri-kyə-ləm-‘vē-\,tī\, -kə-ləm-\, -‘wē-\,tī\, -‘vī-\,tē\ \n:A short account of one’s career and qualifications prepared typically by an applicant for a position. A resume. Latin: “course of (one’s) life” \nThe Expedition CV is our Level 4 training program and provides a baseline of both knowledge and experience for “real” adventures in the “real world”. We strongly advise that you take our level two class (known as the “Next Step” ) before embarking on the CV. We always offer the Next Step the weekend before CV takes place.
URL:https://rawhydeadventures.com/event/expedition-cv/
LOCATION:Rawhyde California\, Golden State Hwy\, Castaic\, CA\, 91384\, United States
CATEGORIES:CA Training
END:VEVENT
BEGIN:VEVENT
DTSTART;TZID=America/Los_Angeles:20261023T080000
DTEND;TZID=America/Los_Angeles:20261023T120000
DTSTAMP:20260420T064502
CREATED:20260220T173204Z
LAST-MODIFIED:20260220T173204Z
UID:10000096-1792742400-1792756800@rawhydeadventures.com
SUMMARY:ADV Essentials
DESCRIPTION:ADV Essentials is a 4.5 hour add on class designed to give you the critical knowledge and skills needed to stay safe and self sufficient in the back country. While most training programs focus solely on riding technique\, this course goes far beyond that. Drawing from more than 20 years of real world adventure experience across deserts\, mountains\, remote wilderness\, and international terrain\, ADV Essentials teaches the practical survival and problem solving skills every adventure rider should have before heading into the unknown.
URL:https://rawhydeadventures.com/event/adv-essentials-11/
LOCATION:Rawhyde California\, Golden State Hwy\, Castaic\, CA\, 91384\, United States
CATEGORIES:CA Training
END:VEVENT
BEGIN:VEVENT
DTSTART;TZID=America/Los_Angeles:20261023T130000
DTEND;TZID=America/Los_Angeles:20261023T170000
DTSTAMP:20260420T064502
CREATED:20260220T172835Z
LAST-MODIFIED:20260220T172835Z
UID:10000092-1792760400-1792774800@rawhydeadventures.com
SUMMARY:Pretraining
DESCRIPTION:Rawhyde’s Pre-Training Clinic is designed for riders who want a little extra learning time before diving into a full weekend of off-road training. Many new riders feel some jitters before their first class\, and this program offers the perfect opportunity to ease in\, build confidence\, and get comfortable on the bike before the pace picks up.
URL:https://rawhydeadventures.com/event/pretraining-10/
LOCATION:Rawhyde California\, Golden State Hwy\, Castaic\, CA\, 91384\, United States
CATEGORIES:CA Training
END:VEVENT
BEGIN:VEVENT
DTSTART;TZID=America/Los_Angeles:20261023T130000
DTEND;TZID=America/Los_Angeles:20261023T170000
DTSTAMP:20260420T064502
CREATED:20260220T183305Z
LAST-MODIFIED:20260220T183305Z
UID:10000109-1792760400-1792774800@rawhydeadventures.com
SUMMARY:Pretraining
DESCRIPTION:Rawhyde’s Pre-Training Clinic is designed for riders who want a little extra learning time before diving into a full weekend of off-road training. Many new riders feel some jitters before their first class\, and this program offers the perfect opportunity to ease in\, build confidence\, and get comfortable on the bike before the pace picks up.
URL:https://rawhydeadventures.com/event/pretraining-13/
LOCATION:Rawhyde California\, Golden State Hwy\, Castaic\, CA\, 91384\, United States
CATEGORIES:CA Training
END:VEVENT
BEGIN:VEVENT
DTSTART;TZID=America/Los_Angeles:20261023T170000
DTEND;TZID=America/Los_Angeles:20261025T170000
DTSTAMP:20260420T064502
CREATED:20260220T172852Z
LAST-MODIFIED:20260220T172852Z
UID:10000093-1792774800-1792947600@rawhydeadventures.com
SUMMARY:Intro to Adventure
DESCRIPTION:Our Intro to Adventure class is the perfect starting point for riders who want to build confidence on their BMW GS in real-world off-road conditions. Many GS owners hesitate to leave the pavement because the bikes are tall\, heavy\, and expensive to repair. The reality is that dirt and gravel are unavoidable. Construction zones\, backcountry routes\, national parks\, and remote attractions often require riders to navigate unpaved terrain safely and confidently.
URL:https://rawhydeadventures.com/event/intro-to-adventure-10/
LOCATION:Rawhyde California\, Golden State Hwy\, Castaic\, CA\, 91384\, United States
CATEGORIES:CA Training
END:VEVENT
BEGIN:VEVENT
DTSTART;TZID=America/Los_Angeles:20261023T170000
DTEND;TZID=America/Los_Angeles:20261025T170000
DTSTAMP:20260420T064502
CREATED:20260220T172917Z
LAST-MODIFIED:20260220T172917Z
UID:10000094-1792774800-1792947600@rawhydeadventures.com
SUMMARY:Intro Plus
DESCRIPTION:We’re pleased to introduce our new “Intro Plus” program which is a combination of a complete refresher of our Level 1 program “Plus” the addition of some challenging new skill development exercises that will serve to continue to increase rider confidence and prepare them for greater adventures in the “real world”.
URL:https://rawhydeadventures.com/event/intro-plus-5/
LOCATION:Rawhyde California\, Golden State Hwy\, Castaic\, CA\, 91384\, United States
CATEGORIES:CA Training
END:VEVENT
BEGIN:VEVENT
DTSTART;TZID=America/Los_Angeles:20261106T080000
DTEND;TZID=America/Los_Angeles:20261106T120000
DTSTAMP:20260420T064502
CREATED:20260220T173429Z
LAST-MODIFIED:20260220T173429Z
UID:10000098-1793952000-1793966400@rawhydeadventures.com
SUMMARY:ADV Essentials
DESCRIPTION:ADV Essentials is a 4.5 hour add on class designed to give you the critical knowledge and skills needed to stay safe and self sufficient in the back country. While most training programs focus solely on riding technique\, this course goes far beyond that. Drawing from more than 20 years of real world adventure experience across deserts\, mountains\, remote wilderness\, and international terrain\, ADV Essentials teaches the practical survival and problem solving skills every adventure rider should have before heading into the unknown.
URL:https://rawhydeadventures.com/event/adv-essentials-12/
LOCATION:Rawhyde California\, Golden State Hwy\, Castaic\, CA\, 91384\, United States
CATEGORIES:CA Training
END:VEVENT
BEGIN:VEVENT
DTSTART;TZID=America/Los_Angeles:20261106T130000
DTEND;TZID=America/Los_Angeles:20261106T170000
DTSTAMP:20260420T064502
CREATED:20260220T182951Z
LAST-MODIFIED:20260220T182951Z
UID:10000099-1793970000-1793984400@rawhydeadventures.com
SUMMARY:Pretraining
DESCRIPTION:Rawhyde’s Pre-Training Clinic is designed for riders who want a little extra learning time before diving into a full weekend of off-road training. Many new riders feel some jitters before their first class\, and this program offers the perfect opportunity to ease in\, build confidence\, and get comfortable on the bike before the pace picks up.
URL:https://rawhydeadventures.com/event/pretraining-11/
LOCATION:Rawhyde California\, Golden State Hwy\, Castaic\, CA\, 91384\, United States
CATEGORIES:CA Training
END:VEVENT
BEGIN:VEVENT
DTSTART;TZID=America/Los_Angeles:20261106T170000
DTEND;TZID=America/Los_Angeles:20261108T170000
DTSTAMP:20260420T064502
CREATED:20260220T183011Z
LAST-MODIFIED:20260220T183011Z
UID:10000100-1793984400-1794157200@rawhydeadventures.com
SUMMARY:Intro to Adventure
DESCRIPTION:Our Intro to Adventure class is the perfect starting point for riders who want to build confidence on their BMW GS in real-world off-road conditions. Many GS owners hesitate to leave the pavement because the bikes are tall\, heavy\, and expensive to repair. The reality is that dirt and gravel are unavoidable. Construction zones\, backcountry routes\, national parks\, and remote attractions often require riders to navigate unpaved terrain safely and confidently.
URL:https://rawhydeadventures.com/event/intro-to-adventure-11/
LOCATION:Rawhyde California\, Golden State Hwy\, Castaic\, CA\, 91384\, United States
CATEGORIES:CA Training
END:VEVENT
BEGIN:VEVENT
DTSTART;TZID=America/Los_Angeles:20261106T170000
DTEND;TZID=America/Los_Angeles:20261108T170000
DTSTAMP:20260420T064502
CREATED:20260220T183032Z
LAST-MODIFIED:20260220T183032Z
UID:10000101-1793984400-1794157200@rawhydeadventures.com
SUMMARY:Next Step
DESCRIPTION:Next Step: Level 3 Training\nThe Next Step is our Level 3 program for riders who are ready to push beyond the fundamentals and step into a more technical\, demanding off road environment. This is where you increase speed\, elevate your precision\, and build real mastery of your motorcycle on challenging terrain.
URL:https://rawhydeadventures.com/event/next-step-6/
LOCATION:Rawhyde California\, Golden State Hwy\, Castaic\, CA\, 91384\, United States
CATEGORIES:CA Training
END:VEVENT
BEGIN:VEVENT
DTSTART;TZID=America/Los_Angeles:20261120T080000
DTEND;TZID=America/Los_Angeles:20261120T120000
DTSTAMP:20260420T064502
CREATED:20260220T183148Z
LAST-MODIFIED:20260220T183148Z
UID:10000105-1795161600-1795176000@rawhydeadventures.com
SUMMARY:ADV Essentials
DESCRIPTION:ADV Essentials is a 4.5 hour add on class designed to give you the critical knowledge and skills needed to stay safe and self sufficient in the back country. While most training programs focus solely on riding technique\, this course goes far beyond that. Drawing from more than 20 years of real world adventure experience across deserts\, mountains\, remote wilderness\, and international terrain\, ADV Essentials teaches the practical survival and problem solving skills every adventure rider should have before heading into the unknown.
URL:https://rawhydeadventures.com/event/adv-essentials-13/
LOCATION:Rawhyde California\, Golden State Hwy\, Castaic\, CA\, 91384\, United States
CATEGORIES:CA Training
END:VEVENT
BEGIN:VEVENT
DTSTART;TZID=America/Los_Angeles:20261120T130000
DTEND;TZID=America/Los_Angeles:20261120T170000
DTSTAMP:20260420T064502
CREATED:20260220T183134Z
LAST-MODIFIED:20260220T183134Z
UID:10000104-1795179600-1795194000@rawhydeadventures.com
SUMMARY:Pretraining
DESCRIPTION:Rawhyde’s Pre-Training Clinic is designed for riders who want a little extra learning time before diving into a full weekend of off-road training. Many new riders feel some jitters before their first class\, and this program offers the perfect opportunity to ease in\, build confidence\, and get comfortable on the bike before the pace picks up.
URL:https://rawhydeadventures.com/event/pretraining-12/
LOCATION:Rawhyde California\, Golden State Hwy\, Castaic\, CA\, 91384\, United States
CATEGORIES:CA Training
END:VEVENT
BEGIN:VEVENT
DTSTART;TZID=America/Los_Angeles:20261120T170000
DTEND;TZID=America/Los_Angeles:20261122T170000
DTSTAMP:20260420T064502
CREATED:20260220T183210Z
LAST-MODIFIED:20260220T183210Z
UID:10000106-1795194000-1795366800@rawhydeadventures.com
SUMMARY:Intro Plus
DESCRIPTION:We’re pleased to introduce our new “Intro Plus” program which is a combination of a complete refresher of our Level 1 program “Plus” the addition of some challenging new skill development exercises that will serve to continue to increase rider confidence and prepare them for greater adventures in the “real world”.
URL:https://rawhydeadventures.com/event/intro-plus-6/
LOCATION:Rawhyde California\, Golden State Hwy\, Castaic\, CA\, 91384\, United States
CATEGORIES:CA Training
END:VEVENT
BEGIN:VEVENT
DTSTART;TZID=America/Los_Angeles:20261120T170000
DTEND;TZID=America/Los_Angeles:20261122T170000
DTSTAMP:20260420T064502
CREATED:20260220T183227Z
LAST-MODIFIED:20260220T183227Z
UID:10000107-1795194000-1795366800@rawhydeadventures.com
SUMMARY:Intro to Adventure
DESCRIPTION:Our Intro to Adventure class is the perfect starting point for riders who want to build confidence on their BMW GS in real-world off-road conditions. Many GS owners hesitate to leave the pavement because the bikes are tall\, heavy\, and expensive to repair. The reality is that dirt and gravel are unavoidable. Construction zones\, backcountry routes\, national parks\, and remote attractions often require riders to navigate unpaved terrain safely and confidently.
URL:https://rawhydeadventures.com/event/intro-to-adventure-12/
LOCATION:Rawhyde California\, Golden State Hwy\, Castaic\, CA\, 91384\, United States
CATEGORIES:CA Training
END:VEVENT
BEGIN:VEVENT
DTSTART;TZID=America/Los_Angeles:20261204T080000
DTEND;TZID=America/Los_Angeles:20261204T120000
DTSTAMP:20260420T064502
CREATED:20260220T183321Z
LAST-MODIFIED:20260220T183321Z
UID:10000110-1796371200-1796385600@rawhydeadventures.com
SUMMARY:ADV Essentials
DESCRIPTION:ADV Essentials is a 4.5 hour add on class designed to give you the critical knowledge and skills needed to stay safe and self sufficient in the back country. While most training programs focus solely on riding technique\, this course goes far beyond that. Drawing from more than 20 years of real world adventure experience across deserts\, mountains\, remote wilderness\, and international terrain\, ADV Essentials teaches the practical survival and problem solving skills every adventure rider should have before heading into the unknown.
URL:https://rawhydeadventures.com/event/adv-essentials-14/
LOCATION:Rawhyde California\, Golden State Hwy\, Castaic\, CA\, 91384\, United States
CATEGORIES:CA Training
END:VEVENT
END:VCALENDAR