BEGIN:VCALENDAR
VERSION:2.0
PRODID:-//Rawhyde Moto Adventures - ECPv6.15.20//NONSGML v1.0//EN
CALSCALE:GREGORIAN
METHOD:PUBLISH
X-WR-CALNAME:Rawhyde Moto Adventures
X-ORIGINAL-URL:https://rawhydeadventures.com
X-WR-CALDESC:Events for Rawhyde Moto Adventures
REFRESH-INTERVAL;VALUE=DURATION:PT1H
X-Robots-Tag:noindex
X-PUBLISHED-TTL:PT1H
BEGIN:VTIMEZONE
TZID:America/Los_Angeles
BEGIN:DAYLIGHT
TZOFFSETFROM:-0800
TZOFFSETTO:-0700
TZNAME:PDT
DTSTART:20250309T100000
END:DAYLIGHT
BEGIN:STANDARD
TZOFFSETFROM:-0700
TZOFFSETTO:-0800
TZNAME:PST
DTSTART:20251102T090000
END:STANDARD
BEGIN:DAYLIGHT
TZOFFSETFROM:-0800
TZOFFSETTO:-0700
TZNAME:PDT
DTSTART:20260308T100000
END:DAYLIGHT
BEGIN:STANDARD
TZOFFSETFROM:-0700
TZOFFSETTO:-0800
TZNAME:PST
DTSTART:20261101T090000
END:STANDARD
BEGIN:DAYLIGHT
TZOFFSETFROM:-0800
TZOFFSETTO:-0700
TZNAME:PDT
DTSTART:20270314T100000
END:DAYLIGHT
BEGIN:STANDARD
TZOFFSETFROM:-0700
TZOFFSETTO:-0800
TZNAME:PST
DTSTART:20271107T090000
END:STANDARD
END:VTIMEZONE
BEGIN:VEVENT
DTSTART;TZID=America/Los_Angeles:20260723T090000
DTEND;TZID=America/Los_Angeles:20260801T170000
DTSTAMP:20260420T025635
CREATED:20260220T170043Z
LAST-MODIFIED:20260220T170043Z
UID:10000067-1784797200-1785603600@rawhydeadventures.com
SUMMARY:Continental Divide - Northbound
DESCRIPTION:Imagine a route more than 2\,500 miles long\, running from the Mexican border to Canada and crossing New Mexico\, Colorado\, Wyoming\, Idaho\, and Montana. Elevations rise from roughly 4\,000 feet to nearly 13\,000 feet\, following a single dominant geologic feature that shapes weather patterns\, divides watersheds\, defines ecosystems\, and delivers some of the most expansive views on the continent. This is the legendary Continental Divide\, often called the Great Divide. Please note that the specific route is subject to weather\, snowpack\, seasonal closures\, wildfires\, and National Forest or BLM restrictions\, and may be adjusted to ensure rider safety and compliance with land management requirements.
URL:https://rawhydeadventures.com/event/continental-divide-northbound/
LOCATION:New Mexico\, Santa Fe\, NM\, United States
CATEGORIES:Domestic Tours
END:VEVENT
END:VCALENDAR